Package: bluster Version: 1.17.0 Command: /home/biocbuild/R/R/bin/R CMD build --keep-empty-dirs --no-resave-data bluster StartedAt: 2025-01-28 21:24:24 -0000 (Tue, 28 Jan 2025) EndedAt: 2025-01-28 21:27:06 -0000 (Tue, 28 Jan 2025) EllapsedTime: 162.0 seconds RetCode: 0 Status: OK PackageFile: bluster_1.17.0.tar.gz PackageFileSize: 1.52 MiB