Package: bluster Version: 1.17.0 Command: /home/biocbuild/R/R/bin/R CMD check --install=check:bluster.install-out.txt --library=/home/biocbuild/R/R/site-library --no-vignettes --timings bluster_1.17.0.tar.gz StartedAt: 2025-01-28 08:30:04 -0000 (Tue, 28 Jan 2025) EndedAt: 2025-01-28 08:49:07 -0000 (Tue, 28 Jan 2025) EllapsedTime: 1143.4 seconds RetCode: 0 Status: OK CheckDir: bluster.Rcheck Warnings: 0