Package: bluster Version: 1.17.0 Command: rm -rf bluster.buildbin-libdir && mkdir bluster.buildbin-libdir && /Users/biocbuild/BBS/utils/build-universal.sh bluster_1.17.0.tar.gz /Library/Frameworks/R.framework/Resources/bin/R bluster.buildbin-libdir StartedAt: 2025-02-05 00:30:48 -0500 (Wed, 05 Feb 2025) EndedAt: 2025-02-05 00:31:20 -0500 (Wed, 05 Feb 2025) EllapsedTime: 32.2 seconds RetCode: 0 Status: OK PackageFile: bluster_1.17.0.tgz PackageFileSize: 3.526 MiB