Package: bluster Version: 1.17.0 Command: /Library/Frameworks/R.framework/Resources/bin/R CMD INSTALL bluster StartedAt: 2025-02-09 15:16:58 -0500 (Sun, 09 Feb 2025) EndedAt: 2025-02-09 15:17:30 -0500 (Sun, 09 Feb 2025) EllapsedTime: 31.6 seconds RetCode: 0 Status: OK