Package: bluster Version: 1.17.0 Command: /home/biocbuild/bbs-3.21-bioc/R/bin/R CMD build --keep-empty-dirs --no-resave-data bluster StartedAt: 2025-02-04 16:24:19 -0500 (Tue, 04 Feb 2025) EndedAt: 2025-02-04 16:26:04 -0500 (Tue, 04 Feb 2025) EllapsedTime: 105.1 seconds RetCode: 0 Status: OK PackageFile: bluster_1.17.0.tar.gz PackageFileSize: 3.111 MiB