Package: bluster Version: 1.17.0 Command: /home/biocbuild/bbs-3.21-bioc/R/bin/R CMD check --install=check:bluster.install-out.txt --library=/home/biocbuild/bbs-3.21-bioc/R/site-library --timings bluster_1.17.0.tar.gz StartedAt: 2025-02-04 20:27:58 -0500 (Tue, 04 Feb 2025) EndedAt: 2025-02-04 20:31:49 -0500 (Tue, 04 Feb 2025) EllapsedTime: 230.4 seconds RetCode: 0 Status: OK CheckDir: bluster.Rcheck Warnings: 0