Package: bluster Version: 1.17.0 Command: /home/biocbuild/bbs-3.21-bioc/R/bin/R CMD INSTALL bluster StartedAt: 2025-02-04 15:12:54 -0500 (Tue, 04 Feb 2025) EndedAt: 2025-02-04 15:13:15 -0500 (Tue, 04 Feb 2025) EllapsedTime: 21.4 seconds RetCode: 0 Status: OK