Package: bluster Version: 1.17.0 Command: chmod a+r bluster -R && E:\biocbuild\bbs-3.21-bioc\R\bin\R.exe CMD build --keep-empty-dirs --no-resave-data bluster StartedAt: 2025-02-09 17:34:04 -0500 (Sun, 09 Feb 2025) EndedAt: 2025-02-09 17:37:18 -0500 (Sun, 09 Feb 2025) EllapsedTime: 194.1 seconds RetCode: 0 Status: OK PackageFile: bluster_1.17.0.tar.gz PackageFileSize: 1.669 MiB