Package: bluster Version: 1.17.0 Command: E:\biocbuild\bbs-3.21-bioc\R\bin\R.exe CMD check --no-multiarch --install=check:bluster.install-out.txt --library=E:\biocbuild\bbs-3.21-bioc\R\library --no-vignettes --timings bluster_1.17.0.tar.gz StartedAt: 2025-02-09 23:10:53 -0500 (Sun, 09 Feb 2025) EndedAt: 2025-02-09 23:13:58 -0500 (Sun, 09 Feb 2025) EllapsedTime: 185.3 seconds RetCode: 0 Status: OK CheckDir: bluster.Rcheck Warnings: 0