Package: bnbc Version: 1.29.0 Command: /Library/Frameworks/R.framework/Resources/bin/R CMD INSTALL bnbc StartedAt: 2025-02-09 15:20:40 -0500 (Sun, 09 Feb 2025) EndedAt: 2025-02-09 15:20:56 -0500 (Sun, 09 Feb 2025) EllapsedTime: 16.2 seconds RetCode: 0 Status: OK