Package: bnbc Version: 1.29.0 Command: /home/biocbuild/R/R/bin/R CMD build --keep-empty-dirs --no-resave-data bnbc StartedAt: 2025-01-28 21:25:17 -0000 (Tue, 28 Jan 2025) EndedAt: 2025-01-28 21:27:15 -0000 (Tue, 28 Jan 2025) EllapsedTime: 118.0 seconds RetCode: 0 Status: OK PackageFile: bnbc_1.29.0.tar.gz PackageFileSize: 4.216 MiB