Package: bnbc Version: 1.29.0 Command: /home/biocbuild/R/R/bin/R CMD check --install=check:bnbc.install-out.txt --library=/home/biocbuild/R/R/site-library --no-vignettes --timings bnbc_1.29.0.tar.gz StartedAt: 2025-01-28 08:30:18 -0000 (Tue, 28 Jan 2025) EndedAt: 2025-01-28 08:53:05 -0000 (Tue, 28 Jan 2025) EllapsedTime: 1366.7 seconds RetCode: 0 Status: OK CheckDir: bnbc.Rcheck Warnings: 0