Package: bnbc Version: 1.29.0 Command: rm -rf bnbc.buildbin-libdir && mkdir bnbc.buildbin-libdir && /Users/biocbuild/BBS/utils/build-universal.sh bnbc_1.29.0.tar.gz /Library/Frameworks/R.framework/Resources/bin/R bnbc.buildbin-libdir StartedAt: 2025-02-10 00:44:22 -0500 (Mon, 10 Feb 2025) EndedAt: 2025-02-10 00:45:23 -0500 (Mon, 10 Feb 2025) EllapsedTime: 60.7 seconds RetCode: 0 Status: OK PackageFile: bnbc_1.29.0.tgz PackageFileSize: 4.566 MiB