Package: bnbc Version: 1.29.0 Command: /Library/Frameworks/R.framework/Resources/bin/R CMD build --keep-empty-dirs --no-resave-data bnbc StartedAt: 2025-02-09 16:06:11 -0500 (Sun, 09 Feb 2025) EndedAt: 2025-02-09 16:07:45 -0500 (Sun, 09 Feb 2025) EllapsedTime: 94.5 seconds RetCode: 0 Status: OK PackageFile: bnbc_1.29.0.tar.gz PackageFileSize: 4.152 MiB