Package: bnbc Version: 1.29.0 Command: /Library/Frameworks/R.framework/Resources/bin/R CMD check --install=check:bnbc.install-out.txt --library=/Library/Frameworks/R.framework/Resources/library --no-vignettes --timings bnbc_1.29.0.tar.gz StartedAt: 2025-02-12 19:16:42 -0500 (Wed, 12 Feb 2025) EndedAt: 2025-02-12 19:23:07 -0500 (Wed, 12 Feb 2025) EllapsedTime: 385.7 seconds RetCode: 0 Status: OK CheckDir: bnbc.Rcheck Warnings: 0