Package: bnbc Version: 1.29.0 Command: /Library/Frameworks/R.framework/Resources/bin/R CMD INSTALL bnbc StartedAt: 2025-02-09 15:33:23 -0500 (Sun, 09 Feb 2025) EndedAt: 2025-02-09 15:34:20 -0500 (Sun, 09 Feb 2025) EllapsedTime: 56.6 seconds RetCode: 0 Status: OK