Package: bnbc Version: 1.29.0 Command: /home/biocbuild/bbs-3.21-bioc/R/bin/R CMD INSTALL bnbc StartedAt: 2025-02-09 15:30:16 -0500 (Sun, 09 Feb 2025) EndedAt: 2025-02-09 15:30:59 -0500 (Sun, 09 Feb 2025) EllapsedTime: 42.9 seconds RetCode: 0 Status: OK