Package: bnbc Version: 1.29.0 Command: chmod a+r bnbc -R && E:\biocbuild\bbs-3.21-bioc\R\bin\R.exe CMD build --keep-empty-dirs --no-resave-data bnbc StartedAt: 2025-02-09 17:34:13 -0500 (Sun, 09 Feb 2025) EndedAt: 2025-02-09 17:36:23 -0500 (Sun, 09 Feb 2025) EllapsedTime: 129.9 seconds RetCode: 0 Status: OK PackageFile: bnbc_1.29.0.tar.gz PackageFileSize: 4.153 MiB