Package: bnbc Version: 1.29.0 Command: E:\biocbuild\bbs-3.21-bioc\R\bin\R.exe CMD check --no-multiarch --install=check:bnbc.install-out.txt --library=E:\biocbuild\bbs-3.21-bioc\R\library --no-vignettes --timings bnbc_1.29.0.tar.gz StartedAt: 2025-02-09 23:10:56 -0500 (Sun, 09 Feb 2025) EndedAt: 2025-02-09 23:17:46 -0500 (Sun, 09 Feb 2025) EllapsedTime: 409.9 seconds RetCode: 0 Status: OK CheckDir: bnbc.Rcheck Warnings: 0