Package: borealis Version: 1.11.0 Maintainer: Garrett Jenkinson MaintainerEmail: gargar934 at gmail.com git_url: https://git.bioconductor.org/packages/borealis git_branch: devel git_last_commit: 9ec3fee git_last_commit_date: 2024-10-29 11:10:53 -0500 (Tue, 29 Oct 2024)