Package: borealis Version: 1.11.0 Command: /Library/Frameworks/R.framework/Resources/bin/R CMD build --keep-empty-dirs --no-resave-data borealis StartedAt: 2025-02-09 15:44:26 -0500 (Sun, 09 Feb 2025) EndedAt: 2025-02-09 15:45:08 -0500 (Sun, 09 Feb 2025) EllapsedTime: 42.5 seconds RetCode: 0 Status: OK PackageFile: borealis_1.11.0.tar.gz PackageFileSize: 426.4 KiB