Package: borealis Version: 1.11.0 Command: /Library/Frameworks/R.framework/Resources/bin/R CMD check --install=check:borealis.install-out.txt --library=/Library/Frameworks/R.framework/Resources/library --no-vignettes --timings borealis_1.11.0.tar.gz StartedAt: 2025-02-09 18:20:04 -0500 (Sun, 09 Feb 2025) EndedAt: 2025-02-09 18:22:04 -0500 (Sun, 09 Feb 2025) EllapsedTime: 120.5 seconds RetCode: 0 Status: OK CheckDir: borealis.Rcheck Warnings: 0