Package: borealis Version: 1.11.0 Command: /home/biocbuild/R/R/bin/R CMD build --keep-empty-dirs --no-resave-data borealis StartedAt: 2025-01-28 21:26:24 -0000 (Tue, 28 Jan 2025) EndedAt: 2025-01-28 21:29:06 -0000 (Tue, 28 Jan 2025) EllapsedTime: 162.1 seconds RetCode: 0 Status: OK PackageFile: borealis_1.11.0.tar.gz PackageFileSize: 382.9 KiB