############################################################################## ############################################################################## ### ### Running command: ### ### chmod a+r borealis -R && E:\biocbuild\bbs-3.21-bioc\R\bin\R.exe CMD build --keep-empty-dirs --no-resave-data borealis ### ############################################################################## ############################################################################## * checking for file 'borealis/DESCRIPTION' ... OK * preparing 'borealis': * checking DESCRIPTION meta-information ... OK * installing the package to build vignettes * creating vignettes ...Warning in file(con, "r") : cannot open file 'E:\biocbuild\bbs-3.21-bioc\tmpdir\RtmpeGN1zO\xshell20ac8427e79ad': Permission denied Error in file(con, "r") : cannot open the connection Execution halted