Package: borealis Version: 1.11.0 Command: chmod a+r borealis -R && E:\biocbuild\bbs-3.21-bioc\R\bin\R.exe CMD build --keep-empty-dirs --no-resave-data borealis StartedAt: 2025-02-09 17:34:18 -0500 (Sun, 09 Feb 2025) EndedAt: 2025-02-09 17:36:51 -0500 (Sun, 09 Feb 2025) EllapsedTime: 153.4 seconds RetCode: 0 Status: OK PackageFile: borealis_1.11.0.tar.gz PackageFileSize: 342.7 KiB