############################################################################## ############################################################################## ### ### Running command: ### ### /home/biocbuild/bbs-3.21-bioc/R/bin/R CMD build --keep-empty-dirs --no-resave-data brainflowprobes ### ############################################################################## ############################################################################## * checking for file ‘brainflowprobes/DESCRIPTION’ ... OK * preparing ‘brainflowprobes’: * checking DESCRIPTION meta-information ... OK * installing the package to build vignettes ----------------------------------- ERROR: dependencies ‘BSgenome.Hsapiens.UCSC.hg19’, ‘GenomicState’ are not available for package ‘brainflowprobes’ Perhaps try a variation of: install.packages(c('BSgenome.Hsapiens.UCSC.hg19', 'GenomicState')) * removing ‘/tmp/Rtmpg65vHQ/Rinstd10e9ad790b1/brainflowprobes’ ----------------------------------- ERROR: package installation failed