############################################################################## ############################################################################## ### ### Running command: ### ### /home/biocbuild/bbs-3.21-bioc/R/bin/R CMD INSTALL brainflowprobes ### ############################################################################## ############################################################################## * installing to library ‘/home/biocbuild/bbs-3.21-bioc/R/site-library’ ERROR: dependencies ‘BSgenome.Hsapiens.UCSC.hg19’, ‘GenomicState’ are not available for package ‘brainflowprobes’ Perhaps try a variation of: install.packages(c('BSgenome.Hsapiens.UCSC.hg19', 'GenomicState')) * removing ‘/home/biocbuild/bbs-3.21-bioc/R/site-library/brainflowprobes’