Package: branchpointer Version: 1.33.0 Command: rm -rf branchpointer.buildbin-libdir && mkdir branchpointer.buildbin-libdir && /Users/biocbuild/BBS/utils/build-universal.sh branchpointer_1.33.0.tar.gz /Library/Frameworks/R.framework/Resources/bin/R branchpointer.buildbin-libdir StartedAt: 2025-02-05 22:12:45 -0500 (Wed, 05 Feb 2025) EndedAt: 2025-02-05 22:13:08 -0500 (Wed, 05 Feb 2025) EllapsedTime: 23.5 seconds RetCode: 0 Status: OK PackageFile: branchpointer_1.33.0.tgz PackageFileSize: 4.318 MiB