Package: branchpointer Version: 1.33.0 Command: /Library/Frameworks/R.framework/Resources/bin/R CMD check --install=check:branchpointer.install-out.txt --library=/Library/Frameworks/R.framework/Resources/library --no-vignettes --timings branchpointer_1.33.0.tar.gz StartedAt: 2025-02-03 18:56:38 -0500 (Mon, 03 Feb 2025) EndedAt: 2025-02-03 18:58:42 -0500 (Mon, 03 Feb 2025) EllapsedTime: 124.6 seconds RetCode: 0 Status: OK CheckDir: branchpointer.Rcheck Warnings: 0