Package: branchpointer Version: 1.33.0 Command: rm -rf branchpointer.buildbin-libdir && mkdir branchpointer.buildbin-libdir && /Users/biocbuild/BBS/utils/build-universal.sh branchpointer_1.33.0.tar.gz /Library/Frameworks/R.framework/Resources/bin/R branchpointer.buildbin-libdir StartedAt: 2025-02-06 00:21:27 -0500 (Thu, 06 Feb 2025) EndedAt: 2025-02-06 00:22:38 -0500 (Thu, 06 Feb 2025) EllapsedTime: 71.4 seconds RetCode: 0 Status: OK PackageFile: branchpointer_1.33.0.tgz PackageFileSize: 4.318 MiB