Package: branchpointer Version: 1.33.0 Command: /Library/Frameworks/R.framework/Resources/bin/R CMD build --keep-empty-dirs --no-resave-data branchpointer StartedAt: 2025-02-03 16:09:53 -0500 (Mon, 03 Feb 2025) EndedAt: 2025-02-03 16:11:27 -0500 (Mon, 03 Feb 2025) EllapsedTime: 93.9 seconds RetCode: 0 Status: OK PackageFile: branchpointer_1.33.0.tar.gz PackageFileSize: 4.804 MiB