Package: branchpointer Version: 1.33.0 Command: /Library/Frameworks/R.framework/Resources/bin/R CMD INSTALL branchpointer StartedAt: 2025-02-03 15:41:31 -0500 (Mon, 03 Feb 2025) EndedAt: 2025-02-03 15:42:40 -0500 (Mon, 03 Feb 2025) EllapsedTime: 68.8 seconds RetCode: 0 Status: OK