Package: branchpointer Version: 1.33.0 Command: /home/biocbuild/bbs-3.21-bioc/R/bin/R CMD build --keep-empty-dirs --no-resave-data branchpointer StartedAt: 2025-02-03 16:36:18 -0500 (Mon, 03 Feb 2025) EndedAt: 2025-02-03 16:37:50 -0500 (Mon, 03 Feb 2025) EllapsedTime: 92.1 seconds RetCode: 0 Status: OK PackageFile: branchpointer_1.33.0.tar.gz PackageFileSize: 4.804 MiB