Package: branchpointer Version: 1.33.0 Command: /home/biocbuild/bbs-3.21-bioc/R/bin/R CMD check --install=check:branchpointer.install-out.txt --library=/home/biocbuild/bbs-3.21-bioc/R/site-library --timings branchpointer_1.33.0.tar.gz StartedAt: 2025-02-03 20:41:54 -0500 (Mon, 03 Feb 2025) EndedAt: 2025-02-03 20:47:38 -0500 (Mon, 03 Feb 2025) EllapsedTime: 343.5 seconds RetCode: 0 Status: OK CheckDir: branchpointer.Rcheck Warnings: 0