Package: branchpointer Version: 1.33.0 Command: /home/biocbuild/bbs-3.21-bioc/R/bin/R CMD INSTALL branchpointer StartedAt: 2025-02-03 15:42:48 -0500 (Mon, 03 Feb 2025) EndedAt: 2025-02-03 15:43:38 -0500 (Mon, 03 Feb 2025) EllapsedTime: 50.0 seconds RetCode: 0 Status: OK