Package: branchpointer Version: 1.33.0 Command: rm -rf branchpointer.buildbin-libdir && mkdir branchpointer.buildbin-libdir && E:\biocbuild\bbs-3.21-bioc\R\bin\R.exe CMD INSTALL --build --library=branchpointer.buildbin-libdir branchpointer_1.33.0.tar.gz StartedAt: 2025-02-04 07:35:29 -0500 (Tue, 04 Feb 2025) EndedAt: 2025-02-04 07:36:35 -0500 (Tue, 04 Feb 2025) EllapsedTime: 66.0 seconds RetCode: 0 Status: OK PackageFile: branchpointer_1.33.0.zip PackageFileSize: 4.321 MiB