Package: branchpointer Version: 1.33.0 Command: chmod a+r branchpointer -R && E:\biocbuild\bbs-3.21-bioc\R\bin\R.exe CMD build --keep-empty-dirs --no-resave-data branchpointer StartedAt: 2025-02-09 17:35:04 -0500 (Sun, 09 Feb 2025) EndedAt: 2025-02-09 17:37:56 -0500 (Sun, 09 Feb 2025) EllapsedTime: 172.3 seconds RetCode: 0 Status: OK PackageFile: branchpointer_1.33.0.tar.gz PackageFileSize: 4.806 MiB