Package: branchpointer Version: 1.33.0 Command: E:\biocbuild\bbs-3.21-bioc\R\bin\R.exe CMD check --no-multiarch --install=check:branchpointer.install-out.txt --library=E:\biocbuild\bbs-3.21-bioc\R\library --no-vignettes --timings branchpointer_1.33.0.tar.gz StartedAt: 2025-02-03 23:41:46 -0500 (Mon, 03 Feb 2025) EndedAt: 2025-02-03 23:47:51 -0500 (Mon, 03 Feb 2025) EllapsedTime: 364.8 seconds RetCode: 0 Status: OK CheckDir: branchpointer.Rcheck Warnings: 0