Package: branchpointer Version: 1.33.0 Command: E:\biocbuild\bbs-3.21-bioc\R\bin\R.exe CMD INSTALL branchpointer StartedAt: 2025-02-03 16:46:48 -0500 (Mon, 03 Feb 2025) EndedAt: 2025-02-03 16:48:01 -0500 (Mon, 03 Feb 2025) EllapsedTime: 72.8 seconds RetCode: 0 Status: OK