Package: breakpointR Version: 1.25.0 Command: rm -rf breakpointR.buildbin-libdir && mkdir breakpointR.buildbin-libdir && /Users/biocbuild/BBS/utils/build-universal.sh breakpointR_1.25.0.tar.gz /Library/Frameworks/R.framework/Resources/bin/R breakpointR.buildbin-libdir StartedAt: 2025-02-11 00:58:38 -0500 (Tue, 11 Feb 2025) EndedAt: 2025-02-11 00:59:19 -0500 (Tue, 11 Feb 2025) EllapsedTime: 41.7 seconds RetCode: 0 Status: OK PackageFile: breakpointR_1.25.0.tgz PackageFileSize: 552 KiB