Package: breakpointR Version: 1.25.0 Command: /Library/Frameworks/R.framework/Resources/bin/R CMD build --keep-empty-dirs --no-resave-data breakpointR StartedAt: 2025-02-10 16:04:47 -0500 (Mon, 10 Feb 2025) EndedAt: 2025-02-10 16:05:56 -0500 (Mon, 10 Feb 2025) EllapsedTime: 69.7 seconds RetCode: 0 Status: OK PackageFile: breakpointR_1.25.0.tar.gz PackageFileSize: 818.8 KiB