Package: breakpointR Version: 1.25.0 Command: /Library/Frameworks/R.framework/Resources/bin/R CMD check --install=check:breakpointR.install-out.txt --library=/Library/Frameworks/R.framework/Resources/library --no-vignettes --timings breakpointR_1.25.0.tar.gz StartedAt: 2025-02-10 19:51:27 -0500 (Mon, 10 Feb 2025) EndedAt: 2025-02-10 19:56:26 -0500 (Mon, 10 Feb 2025) EllapsedTime: 299.3 seconds RetCode: 0 Status: OK CheckDir: breakpointR.Rcheck Warnings: 0