Package: breakpointR Version: 1.25.0 Command: /Library/Frameworks/R.framework/Resources/bin/R CMD INSTALL breakpointR StartedAt: 2025-02-10 15:15:51 -0500 (Mon, 10 Feb 2025) EndedAt: 2025-02-10 15:16:41 -0500 (Mon, 10 Feb 2025) EllapsedTime: 49.8 seconds RetCode: 0 Status: OK