Package: breakpointR Version: 1.25.0 Command: /home/biocbuild/bbs-3.21-bioc/R/bin/R CMD INSTALL breakpointR StartedAt: 2025-02-10 15:33:17 -0500 (Mon, 10 Feb 2025) EndedAt: 2025-02-10 15:33:45 -0500 (Mon, 10 Feb 2025) EllapsedTime: 28.4 seconds RetCode: 0 Status: OK