Package: brendaDb Version: 1.21.0 Command: rm -rf brendaDb.buildbin-libdir && mkdir brendaDb.buildbin-libdir && /Users/biocbuild/BBS/utils/build-universal.sh brendaDb_1.21.0.tar.gz /Library/Frameworks/R.framework/Resources/bin/R brendaDb.buildbin-libdir StartedAt: 2025-02-09 22:07:55 -0500 (Sun, 09 Feb 2025) EndedAt: 2025-02-09 22:08:01 -0500 (Sun, 09 Feb 2025) EllapsedTime: 6.2 seconds RetCode: 0 Status: OK PackageFile: brendaDb_1.21.0.tgz PackageFileSize: 763.9 KiB