Package: brendaDb Version: 1.21.0 Command: /Library/Frameworks/R.framework/Resources/bin/R CMD build --keep-empty-dirs --no-resave-data brendaDb StartedAt: 2025-02-12 15:44:57 -0500 (Wed, 12 Feb 2025) EndedAt: 2025-02-12 15:45:06 -0500 (Wed, 12 Feb 2025) EllapsedTime: 9.1 seconds RetCode: 0 Status: OK PackageFile: brendaDb_1.21.0.tar.gz PackageFileSize: 650.8 KiB