Package: brendaDb Version: 1.21.0 Command: /home/biocbuild/R/R/bin/R CMD build --keep-empty-dirs --no-resave-data brendaDb StartedAt: 2025-01-28 21:27:35 -0000 (Tue, 28 Jan 2025) EndedAt: 2025-01-28 21:28:11 -0000 (Tue, 28 Jan 2025) EllapsedTime: 36.0 seconds RetCode: 0 Status: OK PackageFile: brendaDb_1.21.0.tar.gz PackageFileSize: 719.8 KiB