Package: brendaDb Version: 1.21.0 Command: /home/biocbuild/R/R/bin/R CMD INSTALL brendaDb StartedAt: 2025-01-29 19:46:15 -0000 (Wed, 29 Jan 2025) EndedAt: 2025-01-29 19:46:32 -0000 (Wed, 29 Jan 2025) EllapsedTime: 17.0 seconds RetCode: 0 Status: OK