Package: brendaDb Version: 1.21.0 Command: rm -rf brendaDb.buildbin-libdir && mkdir brendaDb.buildbin-libdir && /Users/biocbuild/BBS/utils/build-universal.sh brendaDb_1.21.0.tar.gz /Library/Frameworks/R.framework/Resources/bin/R brendaDb.buildbin-libdir StartedAt: 2025-02-10 00:44:33 -0500 (Mon, 10 Feb 2025) EndedAt: 2025-02-10 00:44:52 -0500 (Mon, 10 Feb 2025) EllapsedTime: 19.5 seconds RetCode: 0 Status: OK PackageFile: brendaDb_1.21.0.tgz PackageFileSize: 764.8 KiB