Package: brendaDb Version: 1.21.0 Command: /Library/Frameworks/R.framework/Resources/bin/R CMD build --keep-empty-dirs --no-resave-data brendaDb StartedAt: 2025-02-09 16:07:25 -0500 (Sun, 09 Feb 2025) EndedAt: 2025-02-09 16:07:53 -0500 (Sun, 09 Feb 2025) EllapsedTime: 28.5 seconds RetCode: 0 Status: OK PackageFile: brendaDb_1.21.0.tar.gz PackageFileSize: 650.8 KiB